BEGIN:VCALENDAR
VERSION:2.0
PRODID:-//Road Angels Doylestown - ECPv6.15.20//NONSGML v1.0//EN
CALSCALE:GREGORIAN
METHOD:PUBLISH
X-ORIGINAL-URL:https://roadangelsdoylestown.com
X-WR-CALDESC:Events for Road Angels Doylestown
REFRESH-INTERVAL;VALUE=DURATION:PT1H
X-Robots-Tag:noindex
X-PUBLISHED-TTL:PT1H
BEGIN:VTIMEZONE
TZID:America/New_York
BEGIN:DAYLIGHT
TZOFFSETFROM:-0500
TZOFFSETTO:-0400
TZNAME:EDT
DTSTART:20250309T070000
END:DAYLIGHT
BEGIN:STANDARD
TZOFFSETFROM:-0400
TZOFFSETTO:-0500
TZNAME:EST
DTSTART:20251102T060000
END:STANDARD
BEGIN:DAYLIGHT
TZOFFSETFROM:-0500
TZOFFSETTO:-0400
TZNAME:EDT
DTSTART:20260308T070000
END:DAYLIGHT
BEGIN:STANDARD
TZOFFSETFROM:-0400
TZOFFSETTO:-0500
TZNAME:EST
DTSTART:20261101T060000
END:STANDARD
BEGIN:DAYLIGHT
TZOFFSETFROM:-0500
TZOFFSETTO:-0400
TZNAME:EDT
DTSTART:20270314T070000
END:DAYLIGHT
BEGIN:STANDARD
TZOFFSETFROM:-0400
TZOFFSETTO:-0500
TZNAME:EST
DTSTART:20271107T060000
END:STANDARD
END:VTIMEZONE
BEGIN:VEVENT
DTSTART;TZID=America/New_York:20260504T190000
DTEND;TZID=America/New_York:20260504T200000
DTSTAMP:20260424T122901
CREATED:20260213T014149Z
LAST-MODIFIED:20260218T023613Z
UID:210-1777921200-1777924800@roadangelsdoylestown.com
SUMMARY:Road Angels Monthly Meeting-May
DESCRIPTION:Remember to bring a food donation.
URL:https://roadangelsdoylestown.com/event/road-angels-monthly-meeting-may/
LOCATION:Dublin Volunteer Fire Company\, 194 N Main St\, Dublin\, 18917\, United States
END:VEVENT
BEGIN:VEVENT
DTSTART;TZID=America/New_York:20260508T170000
DTEND;TZID=America/New_York:20260508T200000
DTSTAMP:20260424T122901
CREATED:20260212T093516Z
LAST-MODIFIED:20260212T100142Z
UID:124-1778259600-1778270400@roadangelsdoylestown.com
SUMMARY:Cruise Night - May
DESCRIPTION:
URL:https://roadangelsdoylestown.com/event/cruise-night-may/
LOCATION:Dublin Volunteer Fire Company\, 194 N Main St\, Dublin\, 18917\, United States
END:VEVENT
END:VCALENDAR