BEGIN:VCALENDAR
VERSION:2.0
PRODID:-//Road Angels Doylestown - ECPv6.15.20//NONSGML v1.0//EN
CALSCALE:GREGORIAN
METHOD:PUBLISH
X-ORIGINAL-URL:https://roadangelsdoylestown.com
X-WR-CALDESC:Events for Road Angels Doylestown
REFRESH-INTERVAL;VALUE=DURATION:PT1H
X-Robots-Tag:noindex
X-PUBLISHED-TTL:PT1H
BEGIN:VTIMEZONE
TZID:America/New_York
BEGIN:DAYLIGHT
TZOFFSETFROM:-0500
TZOFFSETTO:-0400
TZNAME:EDT
DTSTART:20250309T070000
END:DAYLIGHT
BEGIN:STANDARD
TZOFFSETFROM:-0400
TZOFFSETTO:-0500
TZNAME:EST
DTSTART:20251102T060000
END:STANDARD
BEGIN:DAYLIGHT
TZOFFSETFROM:-0500
TZOFFSETTO:-0400
TZNAME:EDT
DTSTART:20260308T070000
END:DAYLIGHT
BEGIN:STANDARD
TZOFFSETFROM:-0400
TZOFFSETTO:-0500
TZNAME:EST
DTSTART:20261101T060000
END:STANDARD
BEGIN:DAYLIGHT
TZOFFSETFROM:-0500
TZOFFSETTO:-0400
TZNAME:EDT
DTSTART:20270314T070000
END:DAYLIGHT
BEGIN:STANDARD
TZOFFSETFROM:-0400
TZOFFSETTO:-0500
TZNAME:EST
DTSTART:20271107T060000
END:STANDARD
END:VTIMEZONE
BEGIN:VEVENT
DTSTART;TZID=America/New_York:20261102T190000
DTEND;TZID=America/New_York:20261102T200000
DTSTAMP:20260424T202236
CREATED:20260218T024640Z
LAST-MODIFIED:20260218T024640Z
UID:236-1793646000-1793649600@roadangelsdoylestown.com
SUMMARY:Road Angels Monthly Meeting-November
DESCRIPTION:Remember to bring a food donation
URL:https://roadangelsdoylestown.com/event/road-angels-monthly-meeting-november/
LOCATION:Dublin Volunteer Fire Company\, 194 N Main St\, Dublin\, 18917\, United States
END:VEVENT
BEGIN:VEVENT
DTSTART;TZID=America/New_York:20261114T080000
DTEND;TZID=America/New_York:20261114T140000
DTSTAMP:20260424T202236
CREATED:20260422T045536Z
LAST-MODIFIED:20260422T045721Z
UID:1186-1794643200-1794664800@roadangelsdoylestown.com
SUMMARY:Road Angels Swap Meet
DESCRIPTION:Automotive Themed Swap Meet: (Sat) Nov 14\, 2026 \nRain Date: (Sun) Nov 15\, 2026
URL:https://roadangelsdoylestown.com/event/road-angels-swap-meet/
LOCATION:Dublin Volunteer Fire Company\, 194 N Main St\, Dublin\, 18917\, United States
END:VEVENT
END:VCALENDAR